BEGIN:VCALENDAR
VERSION:2.0
PRODID:-//La Comune online - ECPv6.4.0.1//NONSGML v1.0//EN
CALSCALE:GREGORIAN
METHOD:PUBLISH
X-ORIGINAL-URL:https://www.lacomune.org
X-WR-CALDESC:Eventi per La Comune online
REFRESH-INTERVAL;VALUE=DURATION:PT1H
X-Robots-Tag:noindex
X-PUBLISHED-TTL:PT1H
BEGIN:VTIMEZONE
TZID:Europe/Rome
BEGIN:DAYLIGHT
TZOFFSETFROM:+0100
TZOFFSETTO:+0200
TZNAME:CEST
DTSTART:20210328T010000
END:DAYLIGHT
BEGIN:STANDARD
TZOFFSETFROM:+0200
TZOFFSETTO:+0100
TZNAME:CET
DTSTART:20211031T010000
END:STANDARD
END:VTIMEZONE
BEGIN:VEVENT
DTSTART;TZID=Europe/Rome:20210207T153000
DTEND;TZID=Europe/Rome:20210207T173000
DTSTAMP:20260422T064922
CREATED:20210203T133454Z
LAST-MODIFIED:20210203T133704Z
UID:988-1612711800-1612719000@www.lacomune.org
SUMMARY:Buon compleanno Associazione 3 febbraio - Genova
DESCRIPTION:Domenica 7 Febbraio 2020 alle ore 15.30 in Piazza Caricamento \n3 febbraio 1996 – 3 febbraio 2021 \n25 anni di lotta\, di impegno\, di vita \nNe abbiamo fatta di strada in questi anni. A fianco degli ultimi per la dignità e il riscatto\, per la libertà e l’accoglienza\, per la vita contro il razzismo. Quegli ultimi che per noi sono fratelli e sorelle nell’umanità che tutti ci unisce e ci differenzia. Da quel 3 febbraio di 25 anni fa in cui sfilammo a Roma in 50 mila…  \n…ad oggi\, più che mai al fianco di chi emigra per una vita migliore\, contro la barbarie che si consuma in Bosnia da parte della civile e democratica Europa che non disdegna di fare accordi con i peggiori dittatori come in Libia o in Turchia. Siamo a fianco di chi accoglie e dà sostegno\, per questo il nostro anniversario è anche un giorno speciale per tuti voi che ci avete conosciuto e seguito\, per chi ha creduto in noi\, per chi è solidale e con noi si è unito in tante battaglie. Insieme vogliamo festeggiarlo (con le dovute misure di sicurezza). \nIn queste occasioni sarà presentato il nuovo foglio di informazione dell’A3F Solidarietà e Convivenza che potrete trovare inoltre contattando l’Associazione 3 Febbraio e in tutte le sedi de La Comune.
URL:https://www.lacomune.org/event/buon-compleanno-associazione-3-febbraio-2/
LOCATION:Genova\, Piazza De Ferrari\, Genova\, Italia
END:VEVENT
END:VCALENDAR