BEGIN:VCALENDAR
VERSION:2.0
PRODID:-//La Comune online - ECPv6.4.0.1//NONSGML v1.0//EN
CALSCALE:GREGORIAN
METHOD:PUBLISH
X-ORIGINAL-URL:https://www.lacomune.org
X-WR-CALDESC:Eventi per La Comune online
REFRESH-INTERVAL;VALUE=DURATION:PT1H
X-Robots-Tag:noindex
X-PUBLISHED-TTL:PT1H
BEGIN:VTIMEZONE
TZID:Europe/Rome
BEGIN:DAYLIGHT
TZOFFSETFROM:+0100
TZOFFSETTO:+0200
TZNAME:CEST
DTSTART:20210328T010000
END:DAYLIGHT
BEGIN:STANDARD
TZOFFSETFROM:+0200
TZOFFSETTO:+0100
TZNAME:CET
DTSTART:20211031T010000
END:STANDARD
END:VTIMEZONE
BEGIN:VEVENT
DTSTART;TZID=Europe/Rome:20210312T170000
DTEND;TZID=Europe/Rome:20210312T190000
DTSTAMP:20260422T052357
CREATED:20210223T131546Z
LAST-MODIFIED:20210223T140957Z
UID:1167-1615568400-1615575600@www.lacomune.org
SUMMARY:Pontedera - 8 marzo - Unirsi fra donne è vitale
DESCRIPTION:Noi donne siamo principio di vita.Sta a noi innanzitutto prenderne coscienza indirizzando al meglio le nostre potenzialità e capacità\, tanto sentimentali quanto pratiche\, di cura\, di educazione\, di crescita che si sono espresse anche in questa difficile fase pandemica. Le qualità femminili sono sfruttate e allo stesso temponegate da più di 5000 anni dal patriarcato sotto forma di stati\, chiese e maschilismo diffuso.Oggi nuove orrende ideologie antiumane e antifemminili\, le pseudo-teorie “queer”\, si fanno strada nei parlamenti\, nelle accademie e via internet: negano l’esistenza stessa del genere femminile\, vogliono impedire di definirci donne\, ci etichettano come “corpi mestruanti”. Difendere l’identità della specie umana e dei generi da questi attacchi è indispensabile per ricercare una vita più degna\, più libera\, più felice.La solidarietà fra le donne può salvare la vita.Possiamo affermare la vita e difenderci dalla violenza maschile se impariamo anche a prevenire le situazioni di rischio\, se siamo prudenti e pazienti nello scegliere di chi innamorarci o con chi vivere\, se pensiamo di più assieme come spostarci nei luoghi dove viviamo\, se impariamoa fare attenzione\, a guardarci negli occhi\, ad ascoltarci\, a metterci in guardia\, a sostenerci\, a volerci bene.L’unione fra le donne migliora la vita di tutti.Incontriamoci\, conosciamoci\, miglioriamo le nostre relazioni\, uniamoci superando divisioni e competizione: ne gioveremo noi e tutte le persone che ci stanno attorno\, le bimbe e i bimbi\, le persone anziane e gli uomini che possono cambiare in meglio. Assieme possiamo cominciare a immaginare e dare vita ad una convivenza pacifica e benefica a misura dei nostri sogni superando l’estraneità e l’isolamento.Cominciamo fin da subito incontrandoci nelle piazze e dando vita ad un’8 marzo speciale\, nostro\, colorato e creativo\, costruendo i collettivi Dipende Da noi Donne come ambiti stabili di solidarietà femminile frutto del nostro protagonismo. \n\n\n\nvenerdi 12 marzo ore 17 al Parco dei Larici
URL:https://www.lacomune.org/event/pontedera-8-marzo-unirsi-fra-donne-e-vitale/
LOCATION:Parco dei Larici\, Parco dei Larici\, Pontedera\, Italy\, Italia
END:VEVENT
END:VCALENDAR