BEGIN:VCALENDAR
VERSION:2.0
PRODID:-//La Comune online - ECPv6.4.0.1//NONSGML v1.0//EN
CALSCALE:GREGORIAN
METHOD:PUBLISH
X-WR-CALNAME:La Comune online
X-ORIGINAL-URL:https://www.lacomune.org
X-WR-CALDESC:Eventi per La Comune online
REFRESH-INTERVAL;VALUE=DURATION:PT1H
X-Robots-Tag:noindex
X-PUBLISHED-TTL:PT1H
BEGIN:VTIMEZONE
TZID:Europe/Rome
BEGIN:DAYLIGHT
TZOFFSETFROM:+0100
TZOFFSETTO:+0200
TZNAME:CEST
DTSTART:20210328T010000
END:DAYLIGHT
BEGIN:STANDARD
TZOFFSETFROM:+0200
TZOFFSETTO:+0100
TZNAME:CET
DTSTART:20211031T010000
END:STANDARD
END:VTIMEZONE
BEGIN:VEVENT
DTSTART;TZID=Europe/Rome:20210501T100000
DTEND;TZID=Europe/Rome:20210501T140000
DTSTAMP:20260422T023033
CREATED:20210414T144909Z
LAST-MODIFIED:20210414T144916Z
UID:1409-1619863200-1619877600@www.lacomune.org
SUMMARY:Napoli - 1° maggio in amicizia e in sicurezza… Per un'alternativa di valori
DESCRIPTION:Per difendere l’umanità e per migliorare la vita\, fronteggiando la disumanizzazione e la decadenza aggravate dalla pandemia. Solidarietà\, altruismo\, cura\, conoscenza\, amicizia\, sincerità\, lealtà… Affermiamo i migliori valori umani per costruire comunanze benefiche alternative\, libere e indipendenti da Stati\, governi e poteri oppressivi. \n\n\n\ndibattiti\, stand\, improvvisazioni artistiche e tanto altrole diverse iniziative previste nel corso della giornata si svolgeranno in sicurezza
URL:https://www.lacomune.org/event/napoli-1-maggio-in-amicizia-e-in-sicurezza-per-unalternativa-di-valori/
LOCATION:piazza Dante\, Piazza Dante\, Napoli\, italia\, Italia
END:VEVENT
BEGIN:VEVENT
DTSTART;TZID=Europe/Rome:20210501T100000
DTEND;TZID=Europe/Rome:20210501T160000
DTSTAMP:20260422T023033
CREATED:20210414T144610Z
LAST-MODIFIED:20210414T144632Z
UID:1403-1619863200-1619884800@www.lacomune.org
SUMMARY:Torino - 1° maggio in amicizia e in sicurezza… Per un'alternativa di valori
DESCRIPTION:Per difendere l’umanità e per migliorare la vita\, fronteggiando la disumanizzazione e la decadenza aggravate dalla pandemia. Solidarietà\, altruismo\, cura\, conoscenza\, amicizia\, sincerità\, lealtà… Affermiamo i migliori valori umani per costruire comunanze benefiche alternative\, libere e indipendenti da Stati\, governi e poteri oppressivi. \n\n\n\ndibattiti\, stand\, improvvisazioni artistiche e tanto altrole diverse iniziative previste nel corso della giornata si svolgeranno in sicurezza
URL:https://www.lacomune.org/event/torino-1-maggio-in-amicizia-e-in-sicurezza-per-unalternativa-di-valori/
END:VEVENT
BEGIN:VEVENT
DTSTART;TZID=Europe/Rome:20210501T110000
DTEND;TZID=Europe/Rome:20210501T170000
DTSTAMP:20260422T023033
CREATED:20210414T144810Z
LAST-MODIFIED:20210414T144811Z
UID:1406-1619866800-1619888400@www.lacomune.org
SUMMARY:Firenze - 1° maggio in amicizia e in sicurezza… Per un'alternativa di valori
DESCRIPTION:Per difendere l’umanità e per migliorare la vita\, fronteggiando la disumanizzazione e la decadenza aggravate dalla pandemia. Solidarietà\, altruismo\, cura\, conoscenza\, amicizia\, sincerità\, lealtà… Affermiamo i migliori valori umani per costruire comunanze benefiche alternative\, libere e indipendenti da Stati\, governi e poteri oppressivi. \n\n\n\ndibattiti\, stand\, improvvisazioni artistiche e tanto altrole diverse iniziative previste nel corso della giornata si svolgeranno in sicurezza
URL:https://www.lacomune.org/event/firenze-1-maggio-in-amicizia-e-in-sicurezza-per-unalternativa-di-valori/
LOCATION:Piazza San Lorenzo \, Firenze\, Piazza San Lorenzo\, Firenze\, italia\, 50123\, Italia
END:VEVENT
BEGIN:VEVENT
DTSTART;TZID=Europe/Rome:20210501T143000
DTEND;TZID=Europe/Rome:20210501T183000
DTSTAMP:20260422T023033
CREATED:20210414T143001Z
LAST-MODIFIED:20210414T144457Z
UID:1389-1619879400-1619893800@www.lacomune.org
SUMMARY:Milano - 1° maggio in amicizia e in sicurezza… Per un'alternativa di valori
DESCRIPTION:Per difendere l’umanità e per migliorare la vita\, fronteggiando la disumanizzazione e la decadenza aggravate dalla pandemia. Solidarietà\, altruismo\, cura\, conoscenza\, amicizia\, sincerità\, lealtà… Affermiamo i migliori valori umani per costruire comunanze benefiche alternative\, libere e indipendenti da Stati\, governi e poteri oppressivi. \n\n\n\ndibattiti\, stand\, improvvisazioni artistiche e tanto altrole diverse iniziative previste nel corso della giornata si svolgeranno in sicurezza
URL:https://www.lacomune.org/event/1-maggio-in-amicizia-e-in-sicurezza-per-unalternativa-di-valori/
LOCATION:Parco Trotter\, Parco Trotter\, Milano\, Italia
END:VEVENT
BEGIN:VEVENT
DTSTART;TZID=Europe/Rome:20210501T150000
DTEND;TZID=Europe/Rome:20210501T190000
DTSTAMP:20260422T023033
CREATED:20210414T143301Z
LAST-MODIFIED:20210414T145840Z
UID:1398-1619881200-1619895600@www.lacomune.org
SUMMARY:Roma - 1° maggio in amicizia e in sicurezza… Per un'alternativa di valori
DESCRIPTION:Per difendere l’umanità e per migliorare la vita\, fronteggiando la disumanizzazione e la decadenza aggravate dalla pandemia. Solidarietà\, altruismo\, cura\, conoscenza\, amicizia\, sincerità\, lealtà… Affermiamo i migliori valori umani per costruire comunanze benefiche alternative\, libere e indipendenti da Stati\, governi e poteri oppressivi. \n\n\n\ndibattiti\, stand\, improvvisazioni artistiche e tanto altrole diverse iniziative previste nel corso della giornata si svolgeranno in sicurezza
URL:https://www.lacomune.org/event/1-maggio-in-amicizia-e-in-sicurezza-per-unalternativa-di-valori-3/
LOCATION:piazza dei Mirti\, Piazza dei Mirti\, Roma\, Italia
END:VEVENT
BEGIN:VEVENT
DTSTART;TZID=Europe/Rome:20210501T150000
DTEND;TZID=Europe/Rome:20210501T190000
DTSTAMP:20260422T023033
CREATED:20210414T145636Z
LAST-MODIFIED:20210414T145643Z
UID:1417-1619881200-1619895600@www.lacomune.org
SUMMARY:Palermo - 1° maggio in amicizia e in sicurezza… Per un'alternativa di valori
DESCRIPTION:Per difendere l’umanità e per migliorare la vita\, fronteggiando la disumanizzazione e la decadenza aggravate dalla pandemia. Solidarietà\, altruismo\, cura\, conoscenza\, amicizia\, sincerità\, lealtà… Affermiamo i migliori valori umani per costruire comunanze benefiche alternative\, libere e indipendenti da Stati\, governi e poteri oppressivi. \n\n\n\ndibattiti\, stand\, improvvisazioni artistiche e tanto altrole diverse iniziative previste nel corso della giornata si svolgeranno in sicurezza
URL:https://www.lacomune.org/event/palermo-1-maggio-in-amicizia-e-in-sicurezza-per-unalternativa-di-valori/
END:VEVENT
BEGIN:VEVENT
DTSTART;TZID=Europe/Rome:20210501T153000
DTEND;TZID=Europe/Rome:20210501T180000
DTSTAMP:20260422T023033
CREATED:20210414T145041Z
LAST-MODIFIED:20210414T145041Z
UID:1411-1619883000-1619892000@www.lacomune.org
SUMMARY:Genova - 1° maggio in amicizia e in sicurezza… Per un'alternativa di valori
DESCRIPTION:Per difendere l’umanità e per migliorare la vita\, fronteggiando la disumanizzazione e la decadenza aggravate dalla pandemia. Solidarietà\, altruismo\, cura\, conoscenza\, amicizia\, sincerità\, lealtà… Affermiamo i migliori valori umani per costruire comunanze benefiche alternative\, libere e indipendenti da Stati\, governi e poteri oppressivi. \n\n\n\ndibattiti\, stand\, improvvisazioni artistiche e tanto altrole diverse iniziative previste nel corso della giornata si svolgeranno in sicurezza
URL:https://www.lacomune.org/event/genova-1-maggio-in-amicizia-e-in-sicurezza-per-unalternativa-di-valori/
END:VEVENT
BEGIN:VEVENT
DTSTART;TZID=Europe/Rome:20210501T153000
DTEND;TZID=Europe/Rome:20210501T183000
DTSTAMP:20260422T023033
CREATED:20210414T145524Z
LAST-MODIFIED:20210414T145525Z
UID:1413-1619883000-1619893800@www.lacomune.org
SUMMARY:Pontassieve (Fi) - 1° maggio in amicizia e in sicurezza… Per un'alternativa di valori
DESCRIPTION:Per difendere l’umanità e per migliorare la vita\, fronteggiando la disumanizzazione e la decadenza aggravate dalla pandemia. Solidarietà\, altruismo\, cura\, conoscenza\, amicizia\, sincerità\, lealtà… Affermiamo i migliori valori umani per costruire comunanze benefiche alternative\, libere e indipendenti da Stati\, governi e poteri oppressivi. \n\n\n\ndibattiti\, stand\, improvvisazioni artistiche e tanto altrole diverse iniziative previste nel corso della giornata si svolgeranno in sicurezza
URL:https://www.lacomune.org/event/pontassieve-fi-1-maggio-in-amicizia-e-in-sicurezza-per-unalternativa-di-valori/
LOCATION:Giardini pubblici delle Montagnole\, Giardini pubblici delle Montagnole\, Pontassieve\, Italia
END:VEVENT
BEGIN:VEVENT
DTSTART;TZID=Europe/Rome:20210501T163000
DTEND;TZID=Europe/Rome:20210501T190000
DTSTAMP:20260422T023033
CREATED:20210414T143140Z
LAST-MODIFIED:20210414T145733Z
UID:1394-1619886600-1619895600@www.lacomune.org
SUMMARY:Bologna - 1° maggio in amicizia e in sicurezza… Per un'alternativa di valori
DESCRIPTION:Per difendere l’umanità e per migliorare la vita\, fronteggiando la disumanizzazione e la decadenza aggravate dalla pandemia. Solidarietà\, altruismo\, cura\, conoscenza\, amicizia\, sincerità\, lealtà… Affermiamo i migliori valori umani per costruire comunanze benefiche alternative\, libere e indipendenti da Stati\, governi e poteri oppressivi. \n\n\n\ndibattiti\, stand\, improvvisazioni artistiche e tanto altrole diverse iniziative previste nel corso della giornata si svolgeranno in sicurezza
URL:https://www.lacomune.org/event/1-maggio-in-amicizia-e-in-sicurezza-per-unalternativa-di-valori-2/
LOCATION:villa Angeletti via dei Carracci\, 65\, villa Angeletti via dei Carracci\, 65\, Bologna\, Italia
END:VEVENT
BEGIN:VEVENT
DTSTART;TZID=Europe/Rome:20210501T173000
DTEND;TZID=Europe/Rome:20210501T180000
DTSTAMP:20260422T023033
CREATED:20210414T150032Z
LAST-MODIFIED:20210414T150120Z
UID:1424-1619890200-1619892000@www.lacomune.org
SUMMARY:Cagliari - 1° maggio in amicizia e in sicurezza… Per un'alternativa di valori
DESCRIPTION:Per difendere l’umanità e per migliorare la vita\, fronteggiando la disumanizzazione e la decadenza aggravate dalla pandemia. Solidarietà\, altruismo\, cura\, conoscenza\, amicizia\, sincerità\, lealtà… Affermiamo i migliori valori umani per costruire comunanze benefiche alternative\, libere e indipendenti da Stati\, governi e poteri oppressivi. \n\n\n\ndibattiti\, stand\, improvvisazioni artistiche e tanto altrole diverse iniziative previste nel corso della giornata si svolgeranno in sicurezza \n\n\n\n \n\n\n\nLuogo e orario da definire
URL:https://www.lacomune.org/event/cagliari-1-maggio-in-amicizia-e-in-sicurezza-per-unalternativa-di-valori/
END:VEVENT
END:VCALENDAR