BEGIN:VCALENDAR
VERSION:2.0
PRODID:-//La Comune online - ECPv6.4.0.1//NONSGML v1.0//EN
CALSCALE:GREGORIAN
METHOD:PUBLISH
X-WR-CALNAME:La Comune online
X-ORIGINAL-URL:https://www.lacomune.org
X-WR-CALDESC:Eventi per La Comune online
REFRESH-INTERVAL;VALUE=DURATION:PT1H
X-Robots-Tag:noindex
X-PUBLISHED-TTL:PT1H
BEGIN:VTIMEZONE
TZID:Europe/Rome
BEGIN:DAYLIGHT
TZOFFSETFROM:+0100
TZOFFSETTO:+0200
TZNAME:CEST
DTSTART:20210328T010000
END:DAYLIGHT
BEGIN:STANDARD
TZOFFSETFROM:+0200
TZOFFSETTO:+0100
TZNAME:CET
DTSTART:20211031T010000
END:STANDARD
END:VTIMEZONE
BEGIN:VEVENT
DTSTART;TZID=Europe/Rome:20210716T110000
DTEND;TZID=Europe/Rome:20210716T130000
DTSTAMP:20260421T234656
CREATED:20210714T083221Z
LAST-MODIFIED:20210714T083242Z
UID:2180-1626433200-1626440400@www.lacomune.org
SUMMARY:Basta stragi in mare\, difendiamo la vita - Napoli
DESCRIPTION:Cari amici e amiche\,i nostri simili continuano a morire nel mar mediterraneo e purtroppo un silenzio assordante sembra avvolgere questa immane tragedia. Per rompere l’indifferenza e difendere la vita ci ritroveremo a Napoli in via Bologna venerdì 16 luglio alle ore 11. Siete tutti invitati \n\n\n\nBasta stragi in mare\, difendiamo la vita \n\n\n\nMigliaia di nostri simili nel tentativo di fuggire da guerre e miserie perdono la vita nel mar mediterraneo. Questo avviene a causa della politica criminale del governo Draghi che come i precedenti governi nega accoglienza e salvezza a chi ha bisogno\, mentre si accorda con i torturatori libici. Diciamo basta alle morti in mare. Rompiamo il silenzio e l’indifferenza generale che sono complici di questi crimini. Siamo per l’accoglienza e i diritti di tutti i profughi e immigrati che sono in questo paese e che vi giungono rischiando la loro vita.Invitiamo tutti ad unirsi a noi nell’assemblea di sensibilizzazione che terremo venerdì 16 luglio alle ore 11 in via Bologna.Forum indivisibili e solidali di Napoli:Associazione Manden\, La Comune-Napoli\, Cobas Napoli\, Associazione Senegalesi di Napoli\, Associazione Antirazzista Interetnica 3 Febbraio\, Associazione Lankitalia\, Refugees Welcome
URL:https://www.lacomune.org/event/basta-stragi-in-mare-difendiamo-la-vita/
LOCATION:via Bologna\, Napoli
END:VEVENT
END:VCALENDAR