BEGIN:VCALENDAR
VERSION:2.0
PRODID:-//La Comune online - ECPv6.4.0.1//NONSGML v1.0//EN
CALSCALE:GREGORIAN
METHOD:PUBLISH
X-ORIGINAL-URL:https://www.lacomune.org
X-WR-CALDESC:Eventi per La Comune online
REFRESH-INTERVAL;VALUE=DURATION:PT1H
X-Robots-Tag:noindex
X-PUBLISHED-TTL:PT1H
BEGIN:VTIMEZONE
TZID:Europe/Rome
BEGIN:DAYLIGHT
TZOFFSETFROM:+0100
TZOFFSETTO:+0200
TZNAME:CEST
DTSTART:20220327T010000
END:DAYLIGHT
BEGIN:STANDARD
TZOFFSETFROM:+0200
TZOFFSETTO:+0100
TZNAME:CET
DTSTART:20221030T010000
END:STANDARD
END:VTIMEZONE
BEGIN:VEVENT
DTSTART;TZID=Europe/Rome:20221108T173000
DTEND;TZID=Europe/Rome:20221108T173000
DTSTAMP:20260421T065950
CREATED:20221103T192441Z
LAST-MODIFIED:20221103T192441Z
UID:4704-1667928600-1667928600@www.lacomune.org
SUMMARY:Letture Impronta femminile
DESCRIPTION:
URL:https://www.lacomune.org/event/letture-impronta-femminile/
LOCATION:napoli
CATEGORIES:Napoli
END:VEVENT
BEGIN:VEVENT
DTSTART;TZID=Europe/Rome:20221108T173000
DTEND;TZID=Europe/Rome:20221108T173000
DTSTAMP:20260421T065950
CREATED:20221103T193338Z
LAST-MODIFIED:20221103T193338Z
UID:4723-1667928600-1667928600@www.lacomune.org
SUMMARY:Letture dal quindicinale La Comune
DESCRIPTION:
URL:https://www.lacomune.org/event/letture-dal-quindicinale-la-comune-9/
CATEGORIES:Pontassieve
END:VEVENT
BEGIN:VEVENT
DTSTART;TZID=Europe/Rome:20221108T183000
DTEND;TZID=Europe/Rome:20221108T183000
DTSTAMP:20260421T065950
CREATED:20221103T181442Z
LAST-MODIFIED:20221103T185926Z
UID:4596-1667932200-1667932200@www.lacomune.org
SUMMARY:Laboratorio Musicale "MUSICoscienza" Esperimenti in Jazz con Giorgio Cùscito
DESCRIPTION:Esperimenti in Jazz con Giorgio Cùscito
URL:https://www.lacomune.org/event/laboratorio-musicale/
CATEGORIES:Iniziative nelle città,Roma
END:VEVENT
BEGIN:VEVENT
DTSTART;TZID=Europe/Rome:20221108T190000
DTEND;TZID=Europe/Rome:20221108T190000
DTSTAMP:20260421T065950
CREATED:20221103T191308Z
LAST-MODIFIED:20221103T191308Z
UID:4684-1667934000-1667934000@www.lacomune.org
SUMMARY:Letture dal quindicinale La Comune
DESCRIPTION:
URL:https://www.lacomune.org/event/letture-dal-quindicinale-la-comune-4/
CATEGORIES:Bologna
END:VEVENT
END:VCALENDAR